BEGIN:VCALENDAR
VERSION:2.0
PRODID:-//Focales
CALSCALE:GREGORIAN
METHOD:PUBLISH
X-WR-CALNAME:Focales
X-ORIGINAL-URL:https://focales.org/plein-air-moi-moche-et-mechant-3-2/
X-WR-CALDESC:PLEIN AIR &#8211; MOI, MOCHE ET MÉCHANT 3
BEGIN:VEVENT
DTSTART:20180727T214500
DTEND:20180727T234500
SUMMARY:PLEIN AIR &#8211; MOI, MOCHE ET MÉCHANT 3
DESCRIPTION:
LOCATION:Rue Tourrette 63100 Clermont-Ferrand
END:VEVENT
END:VCALENDAR
