BEGIN:VCALENDAR
VERSION:2.0
PRODID:-//Focales
CALSCALE:GREGORIAN
METHOD:PUBLISH
X-WR-CALNAME:Focales
X-ORIGINAL-URL:https://focales.org/plein-air-raid-dingue/
X-WR-CALDESC:PLEIN AIR &#8211; RAID DINGUE
BEGIN:VEVENT
DTSTART:20180730T220000
DTEND:20180730T234500
SUMMARY:PLEIN AIR &#8211; RAID DINGUE
DESCRIPTION:
LOCATION:Place Jean Jaurès 03100 Montluçon France
END:VEVENT
END:VCALENDAR
