BEGIN:VCALENDAR
VERSION:2.0
PRODID:-//Focales
CALSCALE:GREGORIAN
METHOD:PUBLISH
X-WR-CALNAME:Focales
X-ORIGINAL-URL:https://focales.org/plein-air-zootopie-2/
X-WR-CALDESC:PLEIN AIR &#8211; ZOOTOPIE
BEGIN:VEVENT
DTSTART:20180803T220000
DTEND:20180803T234500
SUMMARY:PLEIN AIR &#8211; ZOOTOPIE
DESCRIPTION:
LOCATION:Croix-De-Neyrat, Clermont-Ferrand, France Maison de quartier
END:VEVENT
END:VCALENDAR
