BEGIN:VCALENDAR
VERSION:2.0
PRODID:-//Focales
CALSCALE:GREGORIAN
METHOD:PUBLISH
X-WR-CALNAME:Focales
X-ORIGINAL-URL:https://focales.org/plein-air-raid-dingue-2-2/
X-WR-CALDESC:PLEIN AIR &#8211; RAID DINGUE
BEGIN:VEVENT
DTSTART:20180716T220000
DTEND:20180716T234500
SUMMARY:PLEIN AIR &#8211; RAID DINGUE
DESCRIPTION:
LOCATION:Allée de la Foire au Pré 63300 Thiers France
END:VEVENT
END:VCALENDAR
