BEGIN:VCALENDAR
VERSION:2.0
PRODID:-//Focales
CALSCALE:GREGORIAN
METHOD:PUBLISH
X-WR-CALNAME:Focales
X-ORIGINAL-URL:https://focales.org/plein-air-le-bon-gros-geant-2/
X-WR-CALDESC:PLEIN AIR &#8211; LE BON GROS GÉANT
BEGIN:VEVENT
DTSTART:20180726T214500
DTEND:20180726T234500
SUMMARY:PLEIN AIR &#8211; LE BON GROS GÉANT
DESCRIPTION:
LOCATION:03140 St germain de salles
END:VEVENT
END:VCALENDAR
