BEGIN:VCALENDAR
VERSION:2.0
PRODID:-//Focales
CALSCALE:GREGORIAN
METHOD:PUBLISH
X-WR-CALNAME:Focales
X-ORIGINAL-URL:https://focales.org/journee-mondiale-des-refugies/
X-WR-CALDESC:JOURNEE MONDIALE DES REFUGIES
BEGIN:VEVENT
DTSTART:20180620T201500
DTEND:20180620T220000
SUMMARY:JOURNEE MONDIALE DES REFUGIES
DESCRIPTION:
LOCATION:La Jetée, 6 Place Michel-de-l'Hospital, 63058 Clermont-Ferrand 
END:VEVENT
END:VCALENDAR
