BEGIN:VCALENDAR
VERSION:2.0
PRODID:-//Focales
CALSCALE:GREGORIAN
METHOD:PUBLISH
X-WR-CALNAME:Focales
X-ORIGINAL-URL:https://focales.org/plein-air-la-la-land/
X-WR-CALDESC:PLEIN AIR – LA LA LAND
BEGIN:VEVENT
DTSTART:20180711T220000
DTEND:20180711T234500
SUMMARY:PLEIN AIR – LA LA LAND
DESCRIPTION:
LOCATION:52 Avenue des Dômes 63800 Cournon-d'Auvergne France
END:VEVENT
END:VCALENDAR
