BEGIN:VCALENDAR
VERSION:2.0
PRODID:-//Focales
CALSCALE:GREGORIAN
METHOD:PUBLISH
X-WR-CALNAME:Focales
X-ORIGINAL-URL:https://focales.org/plein-air-swagger/
X-WR-CALDESC:PLEIN AIR &#8211; SWAGGER
BEGIN:VEVENT
DTSTART:20180718T214500
DTEND:20180718T234500
SUMMARY:PLEIN AIR &#8211; SWAGGER
DESCRIPTION:
LOCATION:https://www.google.fr/maps/place/Maison+Des+Citoyens/@45.7306096,3.1894992,18.59z/data=!4m5!3m4!1s0x47f6e29972d2a33f:0xc66e4413719cf1f4!8m2!3d45.7302157!4d3.1896454
END:VEVENT
END:VCALENDAR
