BEGIN:VCALENDAR
VERSION:2.0
PRODID:-//Focales
CALSCALE:GREGORIAN
METHOD:PUBLISH
X-WR-CALNAME:Focales
X-ORIGINAL-URL:https://focales.org/education-a-limage-images-en-detention/
X-WR-CALDESC:EDUCATION A L&rsquo;IMAGE, IMAGES EN DETENTION
BEGIN:VEVENT
DTSTART:20181127T093000
DTEND:20181127T170000
SUMMARY:EDUCATION A L&rsquo;IMAGE, IMAGES EN DETENTION
DESCRIPTION:
LOCATION:Cinéma le Toboggan, 14 avenue Jean-Macé, 69150 Décines-Charpieu
END:VEVENT
END:VCALENDAR
