BEGIN:VCALENDAR
VERSION:2.0
PRODID:-//Focales
CALSCALE:GREGORIAN
METHOD:PUBLISH
X-WR-CALNAME:Focales
X-ORIGINAL-URL:https://focales.org/chappie-cycle-homme-machine/
X-WR-CALDESC:CHAPPIE &#8211; CYCLE HOMME &#038; MACHINE
BEGIN:VEVENT
DTSTART:20180705T203000
DTEND:20180705T223000
SUMMARY:CHAPPIE &#8211; CYCLE HOMME &#038; MACHINE
DESCRIPTION:
LOCATION:Cinéma La Capitelle, Le Mazelle, 43120 Monistrol-sur-Loire
END:VEVENT
END:VCALENDAR
