BEGIN:VCALENDAR
VERSION:2.0
PRODID:-//Focales
CALSCALE:GREGORIAN
METHOD:PUBLISH
X-WR-CALNAME:Focales
X-ORIGINAL-URL:https://focales.org/mes-freres-en-presence-de-thomas-guerry/
X-WR-CALDESC:MES FRERES EN PRESENCE DE THOMAS GUERRY
BEGIN:VEVENT
DTSTART:20180709T200000
DTEND:20180709T230000
SUMMARY:MES FRERES EN PRESENCE DE THOMAS GUERRY
DESCRIPTION:
LOCATION:Cinéma Le Rio, 178 rue Sous Les Vignes, 63100 Clermont-Ferrand
END:VEVENT
END:VCALENDAR
