BEGIN:VCALENDAR
VERSION:2.0
PRODID:-//Focales
CALSCALE:GREGORIAN
METHOD:PUBLISH
X-WR-CALNAME:Focales
X-ORIGINAL-URL:https://focales.org/images-pour-les-tout-petits-la-petite-taupe/
X-WR-CALDESC:IMAGES POUR LES TOUT-PETITS &#8211; LA PETITE TAUPE
BEGIN:VEVENT
DTSTART:20180926T100000
DTEND:20180926T120000
SUMMARY:IMAGES POUR LES TOUT-PETITS &#8211; LA PETITE TAUPE
DESCRIPTION:
LOCATION:Centre universitaire et pédagogique du Puy-en-Velay, 8 Rue Jean Baptiste Fabre, 43011 Le Puy-en-Velay
END:VEVENT
END:VCALENDAR
