BEGIN:VCALENDAR
VERSION:2.0
PRODID:-//Focales
CALSCALE:GREGORIAN
METHOD:PUBLISH
X-WR-CALNAME:Focales
X-ORIGINAL-URL:https://focales.org/plein-air-zootopie-2-2-2/
X-WR-CALDESC:PLEIN AIR &#8211; ZOOTOPIE
BEGIN:VEVENT
DTSTART:20180801T213000
DTEND:20180801T234500
SUMMARY:PLEIN AIR &#8211; ZOOTOPIE
DESCRIPTION:
LOCATION:https://www.google.fr/maps/place/La+Coloc'de+la+Culture/@45.7303042,3.1858433,17z/data=!4m7!3m6!1s0x47f6e29990fe39af:0xbb040b4b1d1c68d6!5m1!1s2018-07-08!8m2!3d45.7303992!4d3.1903109
END:VEVENT
END:VCALENDAR
