BEGIN:VCALENDAR
VERSION:2.0
PRODID:-//Focales
CALSCALE:GREGORIAN
METHOD:PUBLISH
X-WR-CALNAME:Focales
X-ORIGINAL-URL:https://focales.org/sofia-en-presence-de-meryem-benmbarek/
X-WR-CALDESC:SOFIA EN PRESENCE DE MERYEM BENM&rsquo;BAREK
BEGIN:VEVENT
DTSTART:20180911T200000
DTEND:20180911T230000
SUMMARY:SOFIA EN PRESENCE DE MERYEM BENM&rsquo;BAREK
DESCRIPTION:
LOCATION:Ciné Capitole, 32 place de Jaude, 63000 Clermont-Ferrand
END:VEVENT
END:VCALENDAR
