BEGIN:VCALENDAR
VERSION:2.0
PRODID:-//Focales
CALSCALE:GREGORIAN
METHOD:PUBLISH
X-WR-CALNAME:Focales
X-ORIGINAL-URL:https://focales.org/fete-du-cinema-danimation-3e-edition/
X-WR-CALDESC:FETE DU CINEMA D&rsquo;ANIMATION (3e EDITION)
BEGIN:VEVENT
DTSTART:20181114T143000
DTEND:20181118T180000
SUMMARY:FETE DU CINEMA D&rsquo;ANIMATION (3e EDITION)
DESCRIPTION:
LOCATION:Cinéma le Rio, 178 rue Sous les Vignes, 63100 Clermont-Ferrand
END:VEVENT
END:VCALENDAR
