BEGIN:VCALENDAR
VERSION:2.0
PRODID:-//Focales
CALSCALE:GREGORIAN
METHOD:PUBLISH
X-WR-CALNAME:Focales
X-ORIGINAL-URL:https://focales.org/tazzeka-en-presence-de-jean-philippe-gaud/
X-WR-CALDESC:TAZZEKA EN PRESENCE DE JEAN-PHILIPPE GAUD
BEGIN:VEVENT
DTSTART:20180919T200000
DTEND:20180919T230000
SUMMARY:TAZZEKA EN PRESENCE DE JEAN-PHILIPPE GAUD
DESCRIPTION:
LOCATION:Cinéma Le Rio,  178 rue Sous les Vignes Clermont-Ferrand, 63100 France 
END:VEVENT
END:VCALENDAR
