BEGIN:VCALENDAR
VERSION:2.0
PRODID:-//Focales
CALSCALE:GREGORIAN
METHOD:PUBLISH
X-WR-CALNAME:Focales
X-ORIGINAL-URL:https://focales.org/formation-festival-du-court-metrage2/
X-WR-CALDESC:FORMATION EXPLOITER LE COURT METRAGE
BEGIN:VEVENT
DTSTART:20160316T090000
DTEND:20160316T180000
SUMMARY:FORMATION EXPLOITER LE COURT METRAGE
DESCRIPTION:
LOCATION:Clermont-Ferrand, La Jetée
END:VEVENT
END:VCALENDAR
