BEGIN:VCALENDAR
VERSION:2.0
PRODID:-//Focales
CALSCALE:GREGORIAN
METHOD:PUBLISH
X-WR-CALNAME:Focales
X-ORIGINAL-URL:https://focales.org/des-figues-en-avril-en-presence-de-nadir-dendoune/
X-WR-CALDESC:DES FIGUES EN AVRIL EN PRESENCE DE NADIR DENDOUNE
BEGIN:VEVENT
DTSTART:20180925T200000
DTEND:20180925T230000
SUMMARY:DES FIGUES EN AVRIL EN PRESENCE DE NADIR DENDOUNE
DESCRIPTION:
LOCATION:Cinéma Le Rio, 178 Rue sous les Vignes, 63100 Clermont-Ferrand
END:VEVENT
END:VCALENDAR
