BEGIN:VCALENDAR
VERSION:2.0
PRODID:-//Focales
CALSCALE:GREGORIAN
METHOD:PUBLISH
X-WR-CALNAME:Focales
X-ORIGINAL-URL:https://focales.org/les-coriaces-sans-les-voraces-en-presence-de-claude-hirsch/
X-WR-CALDESC:LES CORIACES SANS LES VORACES EN PRESENCE DE CLAUDE HIRSCH
BEGIN:VEVENT
DTSTART:20181114T180000
DTEND:20181114T210000
SUMMARY:LES CORIACES SANS LES VORACES EN PRESENCE DE CLAUDE HIRSCH
DESCRIPTION:
LOCATION:Cinéma Le Rio,  178 rue Sous les Vignes, 63100 Clermont-Ferrand
END:VEVENT
END:VCALENDAR
