BEGIN:VCALENDAR
VERSION:2.0
PRODID:-//Focales
CALSCALE:GREGORIAN
METHOD:PUBLISH
X-WR-CALNAME:Focales
X-ORIGINAL-URL:https://focales.org/formation-preac-mash-up/
X-WR-CALDESC:FORMATION PREAC MASH-UP
BEGIN:VEVENT
DTSTART:20190515T133000
DTEND:20190516T180000
SUMMARY:FORMATION PREAC MASH-UP
DESCRIPTION:
LOCATION:La Jetée, 6 Place Michel-de-l'Hospital, 63058 Clermont-Ferrand 
END:VEVENT
END:VCALENDAR
