BEGIN:VCALENDAR
VERSION:2.0
PRODID:-//Focales
CALSCALE:GREGORIAN
METHOD:PUBLISH
X-WR-CALNAME:Focales
X-ORIGINAL-URL:https://focales.org/le-grand-bal-en-presence-de-laetitia-carton/
X-WR-CALDESC:LE GRAND BAL EN PRESENCE DE LAETITIA CARTON
BEGIN:VEVENT
DTSTART:20181025T194500
DTEND:20181025T223000
SUMMARY:LE GRAND BAL EN PRESENCE DE LAETITIA CARTON
DESCRIPTION:
LOCATION:Ciné Capitole, 32 Place de Jaude, 63000 Clermont-Ferrand
END:VEVENT
END:VCALENDAR
