BEGIN:VCALENDAR
VERSION:2.0
PRODID:-//Focales
CALSCALE:GREGORIAN
METHOD:PUBLISH
X-WR-CALNAME:Focales
X-ORIGINAL-URL:https://focales.org/atelier-film-dhorreur-suede/
X-WR-CALDESC:ATELIER FILM D&rsquo;HORREUR SUEDE
BEGIN:VEVENT
DTSTART:20181022T100000
DTEND:20181026T170000
SUMMARY:ATELIER FILM D&rsquo;HORREUR SUEDE
DESCRIPTION:
LOCATION:Maison de la jeunesse Nelson Mandela, Allée de la foire au pré, 63300 Thiers
END:VEVENT
END:VCALENDAR
