BEGIN:VCALENDAR
VERSION:2.0
PRODID:-//Focales
CALSCALE:GREGORIAN
METHOD:PUBLISH
X-WR-CALNAME:Focales
X-ORIGINAL-URL:https://focales.org/monument-jeu-denfant-2018/
X-WR-CALDESC:MONUMENT JEU D&rsquo;ENFANT 2018
BEGIN:VEVENT
DTSTART:20181020T140000
DTEND:20181021T180000
SUMMARY:MONUMENT JEU D&rsquo;ENFANT 2018
DESCRIPTION:
LOCATION:Château de Villeneuve-Lembron, 63340 Villeneuve-Lembron
END:VEVENT
END:VCALENDAR
