BEGIN:VCALENDAR
VERSION:2.0
PRODID:-//Focales
CALSCALE:GREGORIAN
METHOD:PUBLISH
X-WR-CALNAME:Focales
X-ORIGINAL-URL:https://focales.org/pierre-tu-trembles-en-presence-de-marie-christine-duchalet-et-pierre-gadrey-2/
X-WR-CALDESC:PIERRE, TU TREMBLES ! EN PRESENCE DE MARIE-CHRISTINE DUCHALET ET PIERRE GADREY
BEGIN:VEVENT
DTSTART:20181106T180000
DTEND:20181106T220000
SUMMARY:PIERRE, TU TREMBLES ! EN PRESENCE DE MARIE-CHRISTINE DUCHALET ET PIERRE GADREY
DESCRIPTION:
LOCATION:Théâtre Léon Thivrier, 1 Rue du Dr Léon Thivrier, 03600 Commentry
END:VEVENT
END:VCALENDAR
