BEGIN:VCALENDAR
VERSION:2.0
PRODID:-//Focales
CALSCALE:GREGORIAN
METHOD:PUBLISH
X-WR-CALNAME:Focales
X-ORIGINAL-URL:https://focales.org/realite-virtuelle-images-immersives-transmission/
X-WR-CALDESC:REALITE VIRTUELLE, IMAGES IMMERSIVES &#038; TRANSMISSION
BEGIN:VEVENT
DTSTART:20181204T090000
DTEND:20181204T180000
SUMMARY:REALITE VIRTUELLE, IMAGES IMMERSIVES &#038; TRANSMISSION
DESCRIPTION:
LOCATION:LUX scène nationale, 36 boulevard du Général de Gaulle, 26000 Valence
END:VEVENT
END:VCALENDAR
