BEGIN:VCALENDAR
VERSION:2.0
PRODID:-//Focales
CALSCALE:GREGORIAN
METHOD:PUBLISH
X-WR-CALNAME:Focales
X-ORIGINAL-URL:https://focales.org/8-avenue-lenine-en-presence-de-anna-pitoun/
X-WR-CALDESC:8, AVENUE LENINE EN PRESENCE DE ANNA PITOUN
BEGIN:VEVENT
DTSTART:20181118T163000
DTEND:20181118T190000
SUMMARY:8, AVENUE LENINE EN PRESENCE DE ANNA PITOUN
DESCRIPTION:
LOCATION:Ciné Capitole, 32 place de Jaude, 63000 Clermont-Ferrand
END:VEVENT
END:VCALENDAR
