BEGIN:VCALENDAR
VERSION:2.0
PRODID:-//Focales
CALSCALE:GREGORIAN
METHOD:PUBLISH
X-WR-CALNAME:Focales
X-ORIGINAL-URL:https://focales.org/atelier-gravure-sur-tetrapack/
X-WR-CALDESC:ATELIER GRAVURE SUR TETRAPACK
BEGIN:VEVENT
DTSTART:20190105T100000
DTEND:20190105T160000
SUMMARY:ATELIER GRAVURE SUR TETRAPACK
DESCRIPTION:
LOCATION:21 rue René Brut, 63110 Beaumont
END:VEVENT
END:VCALENDAR
