BEGIN:VCALENDAR
VERSION:2.0
PRODID:-//Focales
CALSCALE:GREGORIAN
METHOD:PUBLISH
X-WR-CALNAME:Focales
X-ORIGINAL-URL:https://focales.org/traces-de-vies-28e-festival-du-film-documentaire/
X-WR-CALDESC:TRACES DE VIES – 28E FESTIVAL DU FILM DOCUMENTAIRE
BEGIN:VEVENT
DTSTART:20181203T143000
DTEND:20181209T233000
SUMMARY:TRACES DE VIES – 28E FESTIVAL DU FILM DOCUMENTAIRE
DESCRIPTION:
LOCATION:
END:VEVENT
END:VCALENDAR
