BEGIN:VCALENDAR
VERSION:2.0
PRODID:-//Focales
CALSCALE:GREGORIAN
METHOD:PUBLISH
X-WR-CALNAME:Focales
X-ORIGINAL-URL:https://focales.org/cine-concert-premieres/
X-WR-CALDESC:CINE CONCERT PREMIERES
BEGIN:VEVENT
DTSTART:20181127T203000
DTEND:20181127T213000
SUMMARY:CINE CONCERT PREMIERES
DESCRIPTION:
LOCATION:29 Boulevard Gergovia, 63000 Clermont-Ferrand
END:VEVENT
END:VCALENDAR
