BEGIN:VCALENDAR
VERSION:2.0
PRODID:-//Focales
CALSCALE:GREGORIAN
METHOD:PUBLISH
X-WR-CALNAME:Focales
X-ORIGINAL-URL:https://focales.org/soiree-mash-up/
X-WR-CALDESC:SOIREE MASH-UP
BEGIN:VEVENT
DTSTART:20181211T180000
DTEND:20181211T230000
SUMMARY:SOIREE MASH-UP
DESCRIPTION:
LOCATION:29 Boulevard Gergovia, 63000 Clermont-Ferrand
END:VEVENT
END:VCALENDAR
