BEGIN:VCALENDAR
VERSION:2.0
PRODID:-//Focales
CALSCALE:GREGORIAN
METHOD:PUBLISH
X-WR-CALNAME:Focales
X-ORIGINAL-URL:https://focales.org/melancolie-ouvriere-en-presence-de-gerard-mordillat/
X-WR-CALDESC:MELANCOLIE OUVRIERE EN PRESENCE DE GERARD MORDILLAT
BEGIN:VEVENT
DTSTART:20181130T200000
DTEND:20181130T230000
SUMMARY:MELANCOLIE OUVRIERE EN PRESENCE DE GERARD MORDILLAT
DESCRIPTION:
LOCATION:178 rue Sous les Vignes, 63100 Clermont-Ferrand
END:VEVENT
END:VCALENDAR
