BEGIN:VCALENDAR
VERSION:2.0
PRODID:-//Focales
CALSCALE:GREGORIAN
METHOD:PUBLISH
X-WR-CALNAME:Focales
X-ORIGINAL-URL:https://focales.org/un-berger-et-deux-perches-a-lelysee-en-presence-de-pierre-carles/
X-WR-CALDESC:UN BERGER ET DEUX PERCHES A L&rsquo;ELYSEE ? EN PRESENCE DE PIERRE CARLES
BEGIN:VEVENT
DTSTART:20190114T200000
DTEND:20190114T230000
SUMMARY:UN BERGER ET DEUX PERCHES A L&rsquo;ELYSEE ? EN PRESENCE DE PIERRE CARLES
DESCRIPTION:
LOCATION: 178 Rue sous les Vignes, 63100 Clermont-Ferrand 
END:VEVENT
END:VCALENDAR
