BEGIN:VCALENDAR
VERSION:2.0
PRODID:-//Focales
CALSCALE:GREGORIAN
METHOD:PUBLISH
X-WR-CALNAME:Focales
X-ORIGINAL-URL:https://focales.org/les-pecheurs-de-perles-moulins/
X-WR-CALDESC:LES PÊCHEURS DE PERLES
BEGIN:VEVENT
DTSTART:20150818T220000
DTEND:20150818T005900
SUMMARY:LES PÊCHEURS DE PERLES
DESCRIPTION:
LOCATION:France, 03000 Moulins, Route de Montilly, Quartier Villars, CNCS
END:VEVENT
END:VCALENDAR
