BEGIN:VCALENDAR
VERSION:2.0
PRODID:-//Focales
CALSCALE:GREGORIAN
METHOD:PUBLISH
X-WR-CALNAME:Focales
X-ORIGINAL-URL:https://focales.org/jean-dufour-un-ouvrier-dans-la-coulisse-en-presence-de-jacques-bertin/
X-WR-CALDESC:JEAN DUFOUR, UN OUVRIER DANS LA COULISSE EN PRESENCE DE JACQUES BERTIN
BEGIN:VEVENT
DTSTART:20190321T200000
DTEND:20190321T220000
SUMMARY:JEAN DUFOUR, UN OUVRIER DANS LA COULISSE EN PRESENCE DE JACQUES BERTIN
DESCRIPTION:
LOCATION: 178 Rue sous les Vignes, 63100 Clermont-Ferrand 
END:VEVENT
END:VCALENDAR
