BEGIN:VCALENDAR
VERSION:2.0
PRODID:-//Focales
CALSCALE:GREGORIAN
METHOD:PUBLISH
X-WR-CALNAME:Focales
X-ORIGINAL-URL:https://focales.org/cine-concert-conference-autour-de-youssef-chahine/
X-WR-CALDESC:CINE-CONCERT CONFERENCE AUTOUR DE YOUSSEF CHAHINE
BEGIN:VEVENT
DTSTART:20190213T140000
DTEND:20190213T180000
SUMMARY:CINE-CONCERT CONFERENCE AUTOUR DE YOUSSEF CHAHINE
DESCRIPTION:
LOCATION: 178 rue Sous les Vignes, 63100 Clermont-Ferrand
END:VEVENT
END:VCALENDAR
