BEGIN:VCALENDAR
VERSION:2.0
PRODID:-//Focales
CALSCALE:GREGORIAN
METHOD:PUBLISH
X-WR-CALNAME:Focales
X-ORIGINAL-URL:https://focales.org/jean-mascii-50-ans-de-peinture-et-de-cinema/
X-WR-CALDESC:JEAN MASCII : 50 ANS DE PEINTURE ET DE CINEMA
BEGIN:VEVENT
DTSTART:20190202T090000
DTEND:20190228T190000
SUMMARY:JEAN MASCII : 50 ANS DE PEINTURE ET DE CINEMA
DESCRIPTION:
LOCATION:La Jetée, 6 Place Michel-de-l'Hospital, 63058 Clermont-Ferrand 
END:VEVENT
END:VCALENDAR
