BEGIN:VCALENDAR
VERSION:2.0
PRODID:-//Focales
CALSCALE:GREGORIAN
METHOD:PUBLISH
X-WR-CALNAME:Focales
X-ORIGINAL-URL:https://focales.org/table-ronde-autour-de-jean-mascii/
X-WR-CALDESC:TABLE RONDE AUTOUR DE JEAN MASCII
BEGIN:VEVENT
DTSTART:20190216T150000
DTEND:20190216T200000
SUMMARY:TABLE RONDE AUTOUR DE JEAN MASCII
DESCRIPTION:
LOCATION:La Jetée, 6 Place Michel-de-l'Hospital, 63058 Clermont-Ferrand 
END:VEVENT
END:VCALENDAR
