BEGIN:VCALENDAR
VERSION:2.0
PRODID:-//Focales
CALSCALE:GREGORIAN
METHOD:PUBLISH
X-WR-CALNAME:Focales
X-ORIGINAL-URL:https://focales.org/courts-particuliers-wave-par-jean-emmanuel-guerlesquin/
X-WR-CALDESC:COURTS PARTICULIERS : WAVE PAR JEAN-EMMANUEL GUERLESQUIN
BEGIN:VEVENT
DTSTART:20190226T183000
DTEND:20190226T193000
SUMMARY:COURTS PARTICULIERS : WAVE PAR JEAN-EMMANUEL GUERLESQUIN
DESCRIPTION:
LOCATION:La Jetée, 6 Place Michel-de-l'Hospital, 63058 Clermont-Ferrand 
END:VEVENT
END:VCALENDAR
