BEGIN:VCALENDAR
VERSION:2.0
PRODID:-//Focales
CALSCALE:GREGORIAN
METHOD:PUBLISH
X-WR-CALNAME:Focales
X-ORIGINAL-URL:https://focales.org/rencontres-nationales-des-poles-deducation-aux-images/
X-WR-CALDESC:RENCONTRES NATIONALES DES POLES D&rsquo;EDUCATION AUX IMAGES
BEGIN:VEVENT
DTSTART:20190325T090000
DTEND:20190326T160000
SUMMARY:RENCONTRES NATIONALES DES POLES D&rsquo;EDUCATION AUX IMAGES
DESCRIPTION:
LOCATION:
END:VEVENT
END:VCALENDAR
