BEGIN:VCALENDAR
VERSION:2.0
PRODID:-//Focales
CALSCALE:GREGORIAN
METHOD:PUBLISH
X-WR-CALNAME:Focales
X-ORIGINAL-URL:https://focales.org/rencontres-avec-des-realisateurs-nationaux/
X-WR-CALDESC:RENCONTRES AVEC DES REALISATEURS NATIONAUX
BEGIN:VEVENT
DTSTART:20190204T140000
DTEND:20190208T200000
SUMMARY:RENCONTRES AVEC DES REALISATEURS NATIONAUX
DESCRIPTION:
LOCATION: 178 Rue sous les Vignes, 63100 Clermont-Ferrand 
END:VEVENT
END:VCALENDAR
