BEGIN:VCALENDAR
VERSION:2.0
PRODID:-//Focales
CALSCALE:GREGORIAN
METHOD:PUBLISH
X-WR-CALNAME:Focales
X-ORIGINAL-URL:https://focales.org/langart/
X-WR-CALDESC:LANG&rsquo;ART
BEGIN:VEVENT
DTSTART:20190204T140000
DTEND:20190215T200000
SUMMARY:LANG&rsquo;ART
DESCRIPTION:
LOCATION:21 rue René Brut, 63110 Beaumont
END:VEVENT
END:VCALENDAR
