BEGIN:VCALENDAR
VERSION:2.0
PRODID:-//Focales
CALSCALE:GREGORIAN
METHOD:PUBLISH
X-WR-CALNAME:Focales
X-ORIGINAL-URL:https://focales.org/formation-realite-virtuelle-comment-ecrire-realiser-et-transmettre-en-vr/
X-WR-CALDESC:FORMATION « RÉALITÉ VIRTUELLE : COMMENT ÉCRIRE, RÉALISER ET TRANSMETTRE EN VR ? »
BEGIN:VEVENT
DTSTART:20190624T090000
DTEND:20190626T180000
SUMMARY:FORMATION « RÉALITÉ VIRTUELLE : COMMENT ÉCRIRE, RÉALISER ET TRANSMETTRE EN VR ? »
DESCRIPTION:
LOCATION:36 boulevard du Général De Gaulle 26000 Valence 
END:VEVENT
END:VCALENDAR
