BEGIN:VCALENDAR
VERSION:2.0
PRODID:-//Focales
CALSCALE:GREGORIAN
METHOD:PUBLISH
X-WR-CALNAME:Focales
X-ORIGINAL-URL:https://focales.org/exposition-des-affiches-pour-un-festival/
X-WR-CALDESC:EXPOSITION &#8211; DES AFFICHES POUR UN FESTIVAL
BEGIN:VEVENT
DTSTART:20190212T090000
DTEND:20190223T183000
SUMMARY:EXPOSITION &#8211; DES AFFICHES POUR UN FESTIVAL
DESCRIPTION:
LOCATION:rue, 4 Rue Saint-Pierre, 63590 Cunlhat
END:VEVENT
END:VCALENDAR
