BEGIN:VCALENDAR
VERSION:2.0
PRODID:-//Focales
CALSCALE:GREGORIAN
METHOD:PUBLISH
X-WR-CALNAME:Focales
X-ORIGINAL-URL:https://focales.org/la-disparition-deverett-ruess-en-presence-du-realisateur-emmanuel-tellier/
X-WR-CALDESC:LA DISPARITION D’EVERETT RUESS EN PRÉSENCE  DU RÉALISATEUR EMMANUEL TELLIER
BEGIN:VEVENT
DTSTART:20190320T190000
DTEND:20190320T210000
SUMMARY:LA DISPARITION D’EVERETT RUESS EN PRÉSENCE  DU RÉALISATEUR EMMANUEL TELLIER
DESCRIPTION:
LOCATION:La Jetée, 6 Place Michel-de-l'Hospital, 63058 Clermont-Ferrand
END:VEVENT
END:VCALENDAR
