BEGIN:VCALENDAR
VERSION:2.0
PRODID:-//Focales
CALSCALE:GREGORIAN
METHOD:PUBLISH
X-WR-CALNAME:Focales
X-ORIGINAL-URL:https://focales.org/la-fille-du-14-juillet-en-presence-du-realisateur-antonin-peretjatko/
X-WR-CALDESC:LA FILLE DU 14 JUILLET EN PRÉSENCE DU RÉALISATEUR ANTONIN PERETJATKO
BEGIN:VEVENT
DTSTART:20190312T203000
DTEND:20190312T230000
SUMMARY:LA FILLE DU 14 JUILLET EN PRÉSENCE DU RÉALISATEUR ANTONIN PERETJATKO
DESCRIPTION:
LOCATION:UFR Lettre, Sciences Humaines, 29 Boulevard Gergovia, 63000 Clermont-Ferrand
END:VEVENT
END:VCALENDAR
