BEGIN:VCALENDAR
VERSION:2.0
PRODID:-//Focales
CALSCALE:GREGORIAN
METHOD:PUBLISH
X-WR-CALNAME:Focales
X-ORIGINAL-URL:https://focales.org/projection-des-films-du-lycee-godefroy-de-bouillon/
X-WR-CALDESC:PROJECTION DES FILMS DU LYCEE GODEFROY DE BOUILLON
BEGIN:VEVENT
DTSTART:20190524T180000
DTEND:20190524T210000
SUMMARY:PROJECTION DES FILMS DU LYCEE GODEFROY DE BOUILLON
DESCRIPTION:
LOCATION:La Jetée, 6 Place Michel-de-l'Hospital, 63058 Clermont-Ferrand
END:VEVENT
END:VCALENDAR
