BEGIN:VCALENDAR
VERSION:2.0
PRODID:-//Focales
CALSCALE:GREGORIAN
METHOD:PUBLISH
X-WR-CALNAME:Focales
X-ORIGINAL-URL:https://focales.org/2pierre-tu-trembles-en-presence-de-marie-christine-duchalet-et-pierre-gadrey-4-2/
X-WR-CALDESC:PIERRE, TU TREMBLES ! EN PRÉSENCE DE MARIE-CHRISTINE DUCHALET ET PIERRE GADREY
BEGIN:VEVENT
DTSTART:20190403T203000
DTEND:20190412T234500
SUMMARY:PIERRE, TU TREMBLES ! EN PRÉSENCE DE MARIE-CHRISTINE DUCHALET ET PIERRE GADREY
DESCRIPTION:
LOCATION:
END:VEVENT
END:VCALENDAR
