BEGIN:VCALENDAR
VERSION:2.0
PRODID:-//Focales
CALSCALE:GREGORIAN
METHOD:PUBLISH
X-WR-CALNAME:Focales
X-ORIGINAL-URL:https://focales.org/resistantes-en-presence-de-la-realisatrice-fatima-sissani/
X-WR-CALDESC:RESISTANTES EN PRÉSENCE DE LA RÉALISATRICE FATIMA SISSANI
BEGIN:VEVENT
DTSTART:20190404T200000
DTEND:20190404T230000
SUMMARY:RESISTANTES EN PRÉSENCE DE LA RÉALISATRICE FATIMA SISSANI
DESCRIPTION:
LOCATION:178 rue Sous les Vignes 63100 Clermont-Ferrand
END:VEVENT
END:VCALENDAR
