BEGIN:VCALENDAR
VERSION:2.0
PRODID:-//Focales
CALSCALE:GREGORIAN
METHOD:PUBLISH
X-WR-CALNAME:Focales
X-ORIGINAL-URL:https://focales.org/et-je-choisis-de-vivre-en-presence-de-la-protagoniste-amande-marty/
X-WR-CALDESC:ET JE CHOISIS DE VIVRE EN PRÉSENCE DE LA PROTAGONISTE AMANDE MARTY
BEGIN:VEVENT
DTSTART:20190407T180000
DTEND:20190407T210000
SUMMARY:ET JE CHOISIS DE VIVRE EN PRÉSENCE DE LA PROTAGONISTE AMANDE MARTY
DESCRIPTION:
LOCATION:178 rue Sous les Vignes 63100 Clermont-Ferrand
END:VEVENT
END:VCALENDAR
