BEGIN:VCALENDAR
VERSION:2.0
PRODID:-//Focales
CALSCALE:GREGORIAN
METHOD:PUBLISH
X-WR-CALNAME:Focales
X-ORIGINAL-URL:https://focales.org/cine-concert-lhomme-a-la-camera-de-dziga-vertov/
X-WR-CALDESC:CINÉ-CONCERT : L’HOMME À LA CAMÉRA DE DZIGA VERTOV
BEGIN:VEVENT
DTSTART:20190404T203000
DTEND:20190404T230000
SUMMARY:CINÉ-CONCERT : L’HOMME À LA CAMÉRA DE DZIGA VERTOV
DESCRIPTION:
LOCATION:29 boulevard gergovia 63000 clermont-ferrand
END:VEVENT
END:VCALENDAR
